BEGIN:VCALENDAR
VERSION:1.0
PRODID:SSPCA Web Calendar
TZ:-07
BEGIN:VEVENT
LOCATION:Metropolitan Club, One East 60th St., New York City
SUMMARY:Capital Link Forum - 20th Annual Invest in Greece Forum
DESCRIPTION;ENCODING=QUOTED-PRINTABLE: For sponsorship opportunities, contact Olga Bornozi, Managing Director at obornozi@capitallink.com, Tel: +1(212)661-7566. For further information, either contact Eleni Bej (NY), Director of Special Events, at ebej@capitallink.com, Tel: +1(212)661-7566 or Eleni Lykidi (Greece), Business Development Manager at marketing@capitallink.com, Tel:  +30-210-610-9800.
DTSTART:20181210T122000Z
DTEND:20181210T233000Z
END:VEVENT
END:VCALENDAR
