BEGIN:VCALENDAR
VERSION:1.0
PRODID:SSPCA Web Calendar
TZ:-07
BEGIN:VEVENT
LOCATION:London Stock Exchange, London, UK
SUMMARY:6th Annual Invest in International Shipping & Marine Services Forum - Capital Link Forum
DESCRIPTION;ENCODING=QUOTED-PRINTABLE: 6th Annual Invest in International Shipping & Marine Services Forum - Capital Link Forum
DTSTART:20130926T073000Z
DTEND:20130926T171500Z
END:VEVENT
END:VCALENDAR
