BEGIN:VCALENDAR
VERSION:1.0
PRODID:SSPCA Web Calendar
TZ:-07
BEGIN:VEVENT
LOCATION:Metropolitan Club, One East 60th Street New York, NY 10022
SUMMARY:Capital Link Forum - 8th Annual Invest in International Shipping Forum 
DESCRIPTION;ENCODING=QUOTED-PRINTABLE: Capital Link Forum - 8th Annual Invest in International Shipping Forum 
DTSTART:20140320T120000Z
DTEND:20140320T230000Z
END:VEVENT
END:VCALENDAR
