BEGIN:VCALENDAR
VERSION:1.0
PRODID:SSPCA Web Calendar
TZ:-07
BEGIN:VEVENT
LOCATION:Divani Caravel Hotel, Athens
SUMMARY:6th Analyst & Investor Capital Link Shipping Forum
DESCRIPTION;ENCODING=QUOTED-PRINTABLE: Forum website and agenda: http://forums.capitallink.com/shipping/2018analyst/index.html. For sponsorship opportunities, contact Olga Bornozi, Managing Director, at obornozi@capitallink.com or +1(212)661-7566. For further information, either contact Eleni Bej (NY), Director of Special Events, at ebej@capitallink.com  or +1(212)661-7566 or Maira Kitova (Greece), Marketing & Media Relations at marketing@capitallink.com  or +30-210-610-9800
DTSTART:20180604T070000Z
DTEND:20180604T160000Z
END:VEVENT
END:VCALENDAR
