BEGIN:VCALENDAR
VERSION:1.0
PRODID:SSPCA Web Calendar
TZ:-07
BEGIN:VEVENT
LOCATION:Hong Kong Convention and Exhibition Centre, Level 2
SUMMARY:Capital Link Forum - Hong Kong Maritime Forum  
DESCRIPTION;ENCODING=QUOTED-PRINTABLE: Capital Link Forum - Hong Kong Maritime Forum - http://forums.capitallink.com/shipping/2019hongkong/
DTSTART:20191118T01000Z
DTEND:20191118T10000Z
END:VEVENT
END:VCALENDAR
